Workbook

Sheet INPUT AND RESULTS
A1: INPUTS
A3: WHAT IS THE ROOF AREA THAT DRAINS TO THE CISTERN? (SQUARE FEET)
A4: 0
A5: WHAT AMOUNT OF RUNOFF IS DIVERTED BY THE FIRST FLUSH DIVERTER? (INCHES) | D5: POTENTIAL MAXIMUM RETENTION AFTER RUNOFF BEGINS (INCHES) | E5: =((1000/A8)-10) -> 0.20408163
A6: 0.01 | D6: INITIAL ABSTRACTION OF ROOF (INCHES) | E6: =(0.2*E5) -> 0.040816327
A7: CURVE NUMBER ROOF - ASSUMED 98, UNLESS USING A GREEN ROOF
A8: 98
A9: MINIMUM VOLUME OF WATER, BUILDING UTILIZES DURING A THREE (3) DAY PERIOD. (GALLONS)
A10: =IF(OR('WATER USE (TOILETS)'!A4>'WATER USE (TOILETS)'!A6,'WATER USE (TOILETS)'!A6>'WATER USE (TOILETS)'!A4,),2*'WATER USE (TOILETS)'!A6+'WATER USE (TOILETS)'!A4,3*'WATER USE (TOILETS)'!A4) -> 0 | D10: WATER QUALITY DESIGN STORM RUNOFF (INCHES) | E10: =(((1.25-E6)^2)/((1.25-E6)+E5)) -> 1.0345723
A11: MINIMUM VOLUME OF WATER, BUILDING UTILIZES DURING A THREE (3) DAY PERIOD. (CUBIC FEET) | D11: WATER QUALITY DESIGN STORM RUNOFF AFTER DIVERSION (INCHES) | E11: =E10-A6 -> 1.0245723
A12: =A10/7.48052 -> 0
A13: WATER QUALITY DESIGN STORM VOLUME (CISTERN'S MINIMUM CAPACITY) (GALLONS)
A14: =(((E11/12)*A4)*7.48052) -> 0
A15: WATER QUALITY DESIGN STORM VOLUME (CISTERN'S MINIMUM CAPACITY) (CUBIC FEET)
A16: =((E11/12)*A4) -> 0
A18: RESULT - 1ST STEP
A19: =IF((A10<A14),"BUILDING'S WATER USAGE IS INSUFFICENT TO JUSTIFY A CISTERN","BUILDING'S WATER USAGE IS SUFFICENT TO JUSTIFY A CISTERN") -> BUILDING'S WATER USAGE IS SUFFICENT TO JUSTIFY A CISTERN
A20: =IF(AND(Sheet1!F7="SUFFICIENT", A19="BUILDING'S WATER USAGE IS SUFFICENT TO JUSTIFY A CISTERN"), MAX(Sheet1!C5:C11)*1.1,"") -> 0 | B20: =IF(AND(Sheet1!F7="SUFFICIENT", A19="BUILDING'S WATER USAGE IS SUFFICENT TO JUSTIFY A CISTERN"), "GALLONS","") -> GALLONS
A21: =IF((A19="BUILDING'S WATER USAGE IS INSUFFICENT TO JUSTIFY A CISTERN"),"RESULT - 2ND STEP","")
A22: =IF(AND(Sheet1!F7="SUFFICIENT",A21="RESULT - 2ND STEP"),"ADDITIONAL WATER USAGE IS SUFFICIENT TO JUSTIFY A CISTERN","ADDITIONAL WATER USAGE IS INSUFFICIENT TO JUSTIFY A CISTERN") -> ADDITIONAL WATER USAGE IS INSUFFICIENT TO JUSTIFY A CISTERN
A23: =IF((A22="ADDITIONAL WATER USAGE IS SUFFICIENT TO JUSTIFY A CISTERN"),"ADDITIONAL STORAGE TANK NECESSARY (GALLONS)","AMOUNT OF WATER THAT REMAINS") -> AMOUNT OF WATER THAT REMAINS
A24: =IF(AND(Sheet1!F7="SUFFICIENT",A23="ADDITIONAL STORAGE TANK NECESSARY (GALLONS)"),MAX(Sheet1!C5:C11)*1.1,"") | B24: =IF(AND(Sheet1!F7="SUFFICIENT",A22="ADDITIONAL WATER USAGE IS SUFFICIENT TO JUSTIFY A CISTERN"),"GALLONS","")

Sheet WATER USE (TOILETS)
A1: CALCULATED TOILET USE PER DAY (GALLONS)
C2: HOW MANY PEOPLE USE THE BULDING?
A3: WEEKDAY | C3: 0
A4: =(C3*C5/100*3*C11/8*C7)+C3*(100-C5)/100*(C11/8*2*C9+C11/8*1*C7) -> 0 | C4: WHAT PERCENTAGE OF THE PEOPLE EXCLUSIVELY USE TOILETS?
A5: WEEKEND | C5: 0 | D5: =IF(C5>100,"INVALID","")
A6: =((C13/100)*A4) -> 0 | C6: HOW MUCH WATER IS USED BY EACH TOILET? (GALLONS/FLUSH)
C7: 0
C8: HOW MUCH WATER IS USED BY EACH URINAL? (GALLONS/FLUSH)
C9: 0
C10: HOW MANY HOURS PER DAY IS THE BUILDING USED?
C11: 0 | D11: =IF(C11>24, "INVALID", "")
C12: WHAT PERCENTAGE OF WEEKEDAY USE IS EXPECTED ON WEEKENDS?
C13: 0

Sheet WATER USE (OTHER)
A2: HOW MUCH WATER WILL BE USED TO WASH VEHICLES? (GALLONS) | C2: WEEKLY AMOUNT (GALLONS)
A3: MONDAY | C3: =(SUM(A4,A6,A8,A10,A12,A14,A16)) -> 0
A4: 0
A5: TUESDAY
A6: 0
A7: WEDNESDAY
A8: 0
A9: THURSDAY
A10: 0
A11: FRIDAY
A12: 0
A13: SATURDAY
A14: 0
A15: SUNDAY
A16: 0

Sheet Sheet1
B4: Day | C4: Storage Tank Actual Volume
B5: 1 | C5: =IF(('WATER USE (TOILETS)'!A4>'WATER USE (TOILETS)'!A6),('INPUT AND RESULTS'!A14-'WATER USE (TOILETS)'!A6-'WATER USE (OTHER)'!A14),('INPUT AND RESULTS'!A14-'WATER USE (TOILETS)'!A4-'WATER USE (OTHER)'!A4)) -> 0
B6: 2 | C6: =MAX(0,(IF(('WATER USE (TOILETS)'!A4>'WATER USE (TOILETS)'!A6),(C5-'WATER USE (TOILETS)'!A6-'WATER USE (OTHER)'!A16),(C5-'WATER USE (TOILETS)'!A4-'WATER USE (OTHER)'!A6)))) -> 0
B7: 3 | C7: =MAX(0,IF(('WATER USE (TOILETS)'!A4>'WATER USE (TOILETS)'!A6),(C6-'WATER USE (TOILETS)'!A4-'WATER USE (OTHER)'!A4),(C6-'WATER USE (TOILETS)'!A4-'WATER USE (OTHER)'!A8))) -> 0 | F7: =IF(MIN(C5:C11)=0,"SUFFICIENT","INSUFFICIENT") -> SUFFICIENT
B8: 4 | C8: =MAX(0,IF(('WATER USE (TOILETS)'!A4>'WATER USE (TOILETS)'!A6),((C7+'INPUT AND RESULTS'!A14)-'WATER USE (TOILETS)'!A4-'WATER USE (OTHER)'!A6),((C7+'INPUT AND RESULTS'!A14)-'WATER USE (TOILETS)'!A4-'WATER USE (OTHER)'!A10))) -> 0
B9: 5 | C9: =MAX(0,IF(('WATER USE (TOILETS)'!A4>'WATER USE (TOILETS)'!A6),(C8-'WATER USE (TOILETS)'!A4-'WATER USE (OTHER)'!A8),(C8-'WATER USE (TOILETS)'!A4-'WATER USE (OTHER)'!A12))) -> 0
B10: 6 | C10: =MAX(0,IF(('WATER USE (TOILETS)'!A4>'WATER USE (TOILETS)'!A6),((C9+'INPUT AND RESULTS'!A14)-'WATER USE (TOILETS)'!A4-'WATER USE (OTHER)'!A10),((C9+'INPUT AND RESULTS'!A14)-'WATER USE (TOILETS)'!A6-'WATER USE (OTHER)'!A14))) -> 0
B11: 7 | C11: =MAX(0,IF(('WATER USE (TOILETS)'!A4>'WATER USE (TOILETS)'!A6),(C10-'WATER USE (TOILETS)'!A4-'WATER USE (OTHER)'!A12),(C10-'WATER USE (TOILETS)'!A6-'WATER USE (OTHER)'!A16))) -> 0
